BEGIN:VCALENDAR
VERSION:2.0
PRODID:-//Breakthrough T1D Play - ECPv6.15.18//NONSGML v1.0//EN
CALSCALE:GREGORIAN
METHOD:PUBLISH
X-WR-CALNAME:Breakthrough T1D Play
X-ORIGINAL-URL:https://play.breakthrought1d.org
X-WR-CALDESC:Events for Breakthrough T1D Play
REFRESH-INTERVAL;VALUE=DURATION:PT1H
X-Robots-Tag:noindex
X-PUBLISHED-TTL:PT1H
BEGIN:VTIMEZONE
TZID:America/Los_Angeles
BEGIN:DAYLIGHT
TZOFFSETFROM:-0800
TZOFFSETTO:-0700
TZNAME:PDT
DTSTART:20240310T100000
END:DAYLIGHT
BEGIN:STANDARD
TZOFFSETFROM:-0700
TZOFFSETTO:-0800
TZNAME:PST
DTSTART:20241103T090000
END:STANDARD
BEGIN:DAYLIGHT
TZOFFSETFROM:-0800
TZOFFSETTO:-0700
TZNAME:PDT
DTSTART:20250309T100000
END:DAYLIGHT
BEGIN:STANDARD
TZOFFSETFROM:-0700
TZOFFSETTO:-0800
TZNAME:PST
DTSTART:20251102T090000
END:STANDARD
BEGIN:DAYLIGHT
TZOFFSETFROM:-0800
TZOFFSETTO:-0700
TZNAME:PDT
DTSTART:20260308T100000
END:DAYLIGHT
BEGIN:STANDARD
TZOFFSETFROM:-0700
TZOFFSETTO:-0800
TZNAME:PST
DTSTART:20261101T090000
END:STANDARD
END:VTIMEZONE
BEGIN:VEVENT
DTSTART;TZID=America/Los_Angeles:20250513T090000
DTEND;TZID=America/Los_Angeles:20250513T130000
DTSTAMP:20260423T051708
CREATED:20250513T164759Z
LAST-MODIFIED:20250513T233653Z
UID:10000463-1747126800-1747141200@play.breakthrought1d.org
SUMMARY:Diabetes & Dragons
DESCRIPTION:
URL:https://www.twitch.tv/videos/2458075025
CATEGORIES:Breakthrough T1D Channel,Creators for Cures,Featured
ATTACH;FMTTYPE=image/jpeg:https://play.breakthrought1d.org/wp-content/uploads/2025/05/diabetes-and-dragons-051325.jpg
END:VEVENT
BEGIN:VEVENT
DTSTART;TZID=America/Los_Angeles:20250513T141500
DTEND;TZID=America/Los_Angeles:20250513T154500
DTSTAMP:20260423T051708
CREATED:20250507T174546Z
LAST-MODIFIED:20250910T232656Z
UID:10000462-1747145700-1747151100@play.breakthrought1d.org
SUMMARY:Dev Diaries: Richard Garfield
DESCRIPTION:
URL:https://www.twitch.tv/videos/2458076270
CATEGORIES:Breakthrough T1D Channel,Creators for Cures,Featured
ATTACH;FMTTYPE=image/jpeg:https://play.breakthrought1d.org/wp-content/uploads/2025/05/Richard_Garfield_THUMB.jpg
END:VEVENT
END:VCALENDAR