BEGIN:VCALENDAR
VERSION:2.0
PRODID:-//Breakthrough T1D Play - ECPv6.15.18//NONSGML v1.0//EN
CALSCALE:GREGORIAN
METHOD:PUBLISH
X-ORIGINAL-URL:https://play.breakthrought1d.org
X-WR-CALDESC:Events for Breakthrough T1D Play
REFRESH-INTERVAL;VALUE=DURATION:PT1H
X-Robots-Tag:noindex
X-PUBLISHED-TTL:PT1H
BEGIN:VTIMEZONE
TZID:America/Los_Angeles
BEGIN:DAYLIGHT
TZOFFSETFROM:-0800
TZOFFSETTO:-0700
TZNAME:PDT
DTSTART:20220313T100000
END:DAYLIGHT
BEGIN:STANDARD
TZOFFSETFROM:-0700
TZOFFSETTO:-0800
TZNAME:PST
DTSTART:20221106T090000
END:STANDARD
BEGIN:DAYLIGHT
TZOFFSETFROM:-0800
TZOFFSETTO:-0700
TZNAME:PDT
DTSTART:20230312T100000
END:DAYLIGHT
BEGIN:STANDARD
TZOFFSETFROM:-0700
TZOFFSETTO:-0800
TZNAME:PST
DTSTART:20231105T090000
END:STANDARD
BEGIN:DAYLIGHT
TZOFFSETFROM:-0800
TZOFFSETTO:-0700
TZNAME:PDT
DTSTART:20240310T100000
END:DAYLIGHT
BEGIN:STANDARD
TZOFFSETFROM:-0700
TZOFFSETTO:-0800
TZNAME:PST
DTSTART:20241103T090000
END:STANDARD
BEGIN:DAYLIGHT
TZOFFSETFROM:-0800
TZOFFSETTO:-0700
TZNAME:PDT
DTSTART:20250309T100000
END:DAYLIGHT
BEGIN:STANDARD
TZOFFSETFROM:-0700
TZOFFSETTO:-0800
TZNAME:PST
DTSTART:20251102T090000
END:STANDARD
END:VTIMEZONE
BEGIN:VEVENT
DTSTART;TZID=America/Los_Angeles:20240818T130000
DTEND;TZID=America/Los_Angeles:20240818T160000
DTSTAMP:20260425T140535
CREATED:20240807T164331Z
LAST-MODIFIED:20250911T182127Z
UID:10000387-1723986000-1723996800@play.breakthrought1d.org
SUMMARY:Sam & Max: The Devil's Playhouse
DESCRIPTION:
URL:https://youtu.be/4qxDAhPEB6I
CATEGORIES:Breakthrough T1D Channel,Featured,Game Over T1D
ATTACH;FMTTYPE=image/jpeg:https://play.breakthrought1d.org/wp-content/uploads/2024/08/301-thumb.jpg
END:VEVENT
BEGIN:VEVENT
DTSTART;TZID=America/Los_Angeles:20240816T140000
DTEND;TZID=America/Los_Angeles:20240816T170000
DTSTAMP:20260425T140535
CREATED:20240806T235251Z
LAST-MODIFIED:20250911T182013Z
UID:10000383-1723816800-1723827600@play.breakthrought1d.org
SUMMARY:Jackbox Night
DESCRIPTION:
URL:https://youtu.be/DR8cIm6VS2I
CATEGORIES:Breakthrough T1D Channel,Featured,Game Over T1D
ATTACH;FMTTYPE=image/webp:https://play.breakthrought1d.org/wp-content/uploads/2024/08/jackbox.webp
END:VEVENT
BEGIN:VEVENT
DTSTART;TZID=America/Los_Angeles:20240813T120000
DTEND;TZID=America/Los_Angeles:20240813T130000
DTSTAMP:20260425T140535
CREATED:20240809T180409Z
LAST-MODIFIED:20250911T175258Z
UID:10000393-1723550400-1723554000@play.breakthrought1d.org
SUMMARY:T1D Tuesday: Kim Fisher
DESCRIPTION:
URL:https://youtu.be/Xe4UwkZFe-Y
CATEGORIES:Breakthrough T1D Channel,Featured
ATTACH;FMTTYPE=image/jpeg:https://play.breakthrought1d.org/wp-content/uploads/2024/08/t1dtuesday-kimfisher-081324.jpg
END:VEVENT
BEGIN:VEVENT
DTSTART;TZID=America/Los_Angeles:20240627T120000
DTEND;TZID=America/Los_Angeles:20240627T133000
DTSTAMP:20260425T140535
CREATED:20240619T185747Z
LAST-MODIFIED:20250911T183001Z
UID:10000381-1719489600-1719495000@play.breakthrought1d.org
SUMMARY:Blue Heart Awards Ceremony
DESCRIPTION:
URL:https://youtu.be/ZvRb4E5PhqY
CATEGORIES:Breakthrough T1D Channel,Featured
ATTACH;FMTTYPE=image/jpeg:https://play.breakthrought1d.org/wp-content/uploads/2024/05/blue-heart-trophies.jpg
END:VEVENT
BEGIN:VEVENT
DTSTART;TZID=America/Los_Angeles:20240614T160000
DTEND;TZID=America/Los_Angeles:20240614T200000
DTSTAMP:20260425T140535
CREATED:20240607T184923Z
LAST-MODIFIED:20240615T172653Z
UID:10000379-1718380800-1718395200@play.breakthrought1d.org
SUMMARY:Diabetes & Dragons
DESCRIPTION:
URL:https://www.twitch.tv/videos/2172851389
CATEGORIES:Breakthrough T1D Channel,Featured
ATTACH;FMTTYPE=image/jpeg:https://play.breakthrought1d.org/wp-content/uploads/2024/06/diabetes-and-dragons-061424.jpg
END:VEVENT
BEGIN:VEVENT
DTSTART;TZID=America/Los_Angeles:20240604T110000
DTEND;TZID=America/Los_Angeles:20240604T120000
DTSTAMP:20260425T140535
CREATED:20240530T184756Z
LAST-MODIFIED:20250911T175551Z
UID:10000378-1717498800-1717502400@play.breakthrought1d.org
SUMMARY:T1D Tuesday: RogueLiliana
DESCRIPTION:
URL:https://youtu.be/hs1xFA8PoJU
CATEGORIES:Breakthrough T1D Channel,Featured
ATTACH;FMTTYPE=image/jpeg:https://play.breakthrought1d.org/wp-content/uploads/2024/05/t1dtuesday-rogueliliana-060424.jpg
END:VEVENT
BEGIN:VEVENT
DTSTART;TZID=America/Los_Angeles:20240530T100000
DTEND;TZID=America/Los_Angeles:20240530T113000
DTSTAMP:20260425T140535
CREATED:20240525T160012Z
LAST-MODIFIED:20250911T001058Z
UID:10000377-1717063200-1717068600@play.breakthrought1d.org
SUMMARY:Dev Diaries: Jon Bellini
DESCRIPTION:
URL:https://youtu.be/lN8hs7btUjs
CATEGORIES:Breakthrough T1D Channel,Featured
ATTACH;FMTTYPE=image/jpeg:https://play.breakthrought1d.org/wp-content/uploads/2024/05/dev-diaries-jon-bellini-1.jpg
END:VEVENT
BEGIN:VEVENT
DTSTART;TZID=America/Los_Angeles:20240524T160000
DTEND;TZID=America/Los_Angeles:20240524T200000
DTSTAMP:20260425T140535
CREATED:20240520T193516Z
LAST-MODIFIED:20240529T210755Z
UID:10000371-1716566400-1716580800@play.breakthrought1d.org
SUMMARY:Diabetes & Dragons
DESCRIPTION:
URL:https://www.twitch.tv/videos/2157704379
CATEGORIES:Breakthrough T1D Channel,Featured
ATTACH;FMTTYPE=image/jpeg:https://play.breakthrought1d.org/wp-content/uploads/2024/05/diabetes-and-dragons-052424.jpg
END:VEVENT
BEGIN:VEVENT
DTSTART;TZID=America/Los_Angeles:20240521T070000
DTEND;TZID=America/Los_Angeles:20240521T080000
DTSTAMP:20260425T140535
CREATED:20240520T212558Z
LAST-MODIFIED:20250911T180142Z
UID:10000376-1716274800-1716278400@play.breakthrought1d.org
SUMMARY:T1D Tuesday: Krillin
DESCRIPTION:
URL:https://youtu.be/A4aW3kOkhTE
CATEGORIES:Breakthrough T1D Channel,Featured
ATTACH;FMTTYPE=image/jpeg:https://play.breakthrought1d.org/wp-content/uploads/2024/05/krillin-t1d-tuesday.jpg
END:VEVENT
BEGIN:VEVENT
DTSTART;TZID=America/Los_Angeles:20240508T130000
DTEND;TZID=America/Los_Angeles:20240508T150000
DTSTAMP:20260425T140535
CREATED:20240430T223445Z
LAST-MODIFIED:20250910T234532Z
UID:10000370-1715173200-1715180400@play.breakthrought1d.org
SUMMARY:Twitch Takeover: ECZilla
DESCRIPTION:
URL:https://youtu.be/BV5oD2gVCfw
CATEGORIES:Breakthrough T1D Channel,Featured
ATTACH;FMTTYPE=image/jpeg:https://play.breakthrought1d.org/wp-content/uploads/2024/04/twitch-takeover-eczilla.jpg
END:VEVENT
BEGIN:VEVENT
DTSTART;TZID=America/Los_Angeles:20240507T120000
DTEND;TZID=America/Los_Angeles:20240507T130000
DTSTAMP:20260425T140535
CREATED:20240501T230029Z
LAST-MODIFIED:20250911T180211Z
UID:10000372-1715083200-1715086800@play.breakthrought1d.org
SUMMARY:T1D Tuesday: Baldabetic
DESCRIPTION:
URL:https://youtu.be/mMgK_K17eUk
CATEGORIES:Breakthrough T1D Channel,Featured
ATTACH;FMTTYPE=image/jpeg:https://play.breakthrought1d.org/wp-content/uploads/2024/05/baldabetic-t1dtuesday-thumb.jpg
END:VEVENT
BEGIN:VEVENT
DTSTART;TZID=America/Los_Angeles:20240505T060000
DTEND;TZID=America/Los_Angeles:20240505T090000
DTSTAMP:20260425T140535
CREATED:20240430T222803Z
LAST-MODIFIED:20250910T234610Z
UID:10000369-1714888800-1714899600@play.breakthrought1d.org
SUMMARY:Twitch Takeover: DarkInsanities
DESCRIPTION:
URL:https://youtu.be/n3APYwR8u8g
CATEGORIES:Breakthrough T1D Channel,Featured
ATTACH;FMTTYPE=image/jpeg:https://play.breakthrought1d.org/wp-content/uploads/2024/04/dark-insanities-cyberpunk.jpg
END:VEVENT
BEGIN:VEVENT
DTSTART;TZID=America/Los_Angeles:20240501T110000
DTEND;TZID=America/Los_Angeles:20240501T123000
DTSTAMP:20260425T140535
CREATED:20240425T000319Z
LAST-MODIFIED:20250911T001042Z
UID:10000368-1714561200-1714566600@play.breakthrought1d.org
SUMMARY:Dev Diaries: Dave Gilbert
DESCRIPTION:
URL:https://youtu.be/3Yqm5OKcP70
CATEGORIES:Breakthrough T1D Channel,Featured
ATTACH;FMTTYPE=image/jpeg:https://play.breakthrought1d.org/wp-content/uploads/2024/04/old-skies-thumb1.jpg
END:VEVENT
BEGIN:VEVENT
DTSTART;TZID=America/Los_Angeles:20240423T090000
DTEND;TZID=America/Los_Angeles:20240423T100000
DTSTAMP:20260425T140535
CREATED:20240416T235739Z
LAST-MODIFIED:20250911T180250Z
UID:10000337-1713862800-1713866400@play.breakthrought1d.org
SUMMARY:T1D Tuesday: Nukkuler
DESCRIPTION:
URL:https://youtu.be/lUoRQfHzYTo
CATEGORIES:Breakthrough T1D Channel,Featured
ATTACH;FMTTYPE=image/jpeg:https://play.breakthrought1d.org/wp-content/uploads/2024/04/nukes-t1d-tuesday.jpg
END:VEVENT
BEGIN:VEVENT
DTSTART;TZID=America/Los_Angeles:20240409T080000
DTEND;TZID=America/Los_Angeles:20240409T090000
DTSTAMP:20260425T140535
CREATED:20240403T164550Z
LAST-MODIFIED:20250911T180324Z
UID:10000358-1712649600-1712653200@play.breakthrought1d.org
SUMMARY:T1D Tuesday: Austin James
DESCRIPTION:
URL:https://youtu.be/jUkE6D0xe3A
CATEGORIES:Breakthrough T1D Channel,Featured
ATTACH;FMTTYPE=image/jpeg:https://play.breakthrought1d.org/wp-content/uploads/2024/04/austin-james-t1d-tuesday.jpg
END:VEVENT
BEGIN:VEVENT
DTSTART;TZID=America/Los_Angeles:20240312T170000
DTEND;TZID=America/Los_Angeles:20240312T180000
DTSTAMP:20260425T140535
CREATED:20240306T005648Z
LAST-MODIFIED:20250911T180352Z
UID:10000336-1710262800-1710266400@play.breakthrought1d.org
SUMMARY:T1D Tuesday: CalebratedGamer
DESCRIPTION:
URL:https://youtu.be/Mpx1D1IMWDU
CATEGORIES:Breakthrough T1D Channel,Featured
ATTACH;FMTTYPE=image/jpeg:https://play.breakthrought1d.org/wp-content/uploads/2024/03/calebratedgamer-t1dtuesday-thumb.jpg
END:VEVENT
BEGIN:VEVENT
DTSTART;TZID=America/Los_Angeles:20240227T140000
DTEND;TZID=America/Los_Angeles:20240227T150000
DTSTAMP:20260425T140535
CREATED:20240222T163525Z
LAST-MODIFIED:20250911T180428Z
UID:10000307-1709042400-1709046000@play.breakthrought1d.org
SUMMARY:T1D Tuesday: RaeBae
DESCRIPTION:
URL:https://youtu.be/_CTzhZl30T0
CATEGORIES:Breakthrough T1D Channel,Featured
ATTACH;FMTTYPE=image/jpeg:https://play.breakthrought1d.org/wp-content/uploads/2024/02/raebae-t1dtuesday-thumb.jpg
END:VEVENT
BEGIN:VEVENT
DTSTART;TZID=America/Los_Angeles:20240221T143000
DTEND;TZID=America/Los_Angeles:20240221T163000
DTSTAMP:20260425T140535
CREATED:20240215T180015Z
LAST-MODIFIED:20250910T234813Z
UID:10000322-1708525800-1708533000@play.breakthrought1d.org
SUMMARY:Sam & Max Save the World
DESCRIPTION:
URL:https://youtu.be/DOmvivKuDyg
CATEGORIES:Breakthrough T1D Channel,Featured
ATTACH;FMTTYPE=image/jpeg:https://play.breakthrought1d.org/wp-content/uploads/2024/02/t1dchaosqueen-samandmax.jpg
END:VEVENT
BEGIN:VEVENT
DTSTART;TZID=America/Los_Angeles:20240221T120000
DTEND;TZID=America/Los_Angeles:20240221T140000
DTSTAMP:20260425T140535
CREATED:20240215T180051Z
LAST-MODIFIED:20250910T234942Z
UID:10000328-1708516800-1708524000@play.breakthrought1d.org
SUMMARY:One Step from Eden
DESCRIPTION:
URL:https://youtu.be/xXWf9ahle0I
CATEGORIES:Breakthrough T1D Channel,Featured
ATTACH;FMTTYPE=image/jpeg:https://play.breakthrought1d.org/wp-content/uploads/2024/02/krillen-eden.jpg
END:VEVENT
BEGIN:VEVENT
DTSTART;TZID=America/Los_Angeles:20240220T100000
DTEND;TZID=America/Los_Angeles:20240220T113000
DTSTAMP:20260425T140535
CREATED:20240208T001438Z
LAST-MODIFIED:20250911T001003Z
UID:10000309-1708423200-1708428600@play.breakthrought1d.org
SUMMARY:Dev Diaries: Chris Kohler
DESCRIPTION:
URL:https://youtu.be/BVaDDHyqD2Q
CATEGORIES:Breakthrough T1D Channel,Featured
ATTACH;FMTTYPE=image/jpeg:https://play.breakthrought1d.org/wp-content/uploads/2024/02/devdiaries_chriskohler.jpg
END:VEVENT
BEGIN:VEVENT
DTSTART;TZID=America/Los_Angeles:20240219T163000
DTEND;TZID=America/Los_Angeles:20240219T183000
DTSTAMP:20260425T140535
CREATED:20240215T180045Z
LAST-MODIFIED:20250910T235018Z
UID:10000324-1708360200-1708367400@play.breakthrought1d.org
SUMMARY:Thimbleweed Park
DESCRIPTION:
URL:https://youtu.be/xx8CXY28Xqc
CATEGORIES:Breakthrough T1D Channel,Featured
ATTACH;FMTTYPE=image/jpeg:https://play.breakthrought1d.org/wp-content/uploads/2024/02/devon_thimbleweedpark.jpg
END:VEVENT
BEGIN:VEVENT
DTSTART;TZID=America/Los_Angeles:20240218T170000
DTEND;TZID=America/Los_Angeles:20240218T190000
DTSTAMP:20260425T140535
CREATED:20240215T180051Z
LAST-MODIFIED:20250910T235101Z
UID:10000323-1708275600-1708282800@play.breakthrought1d.org
SUMMARY:Haunted House
DESCRIPTION:
URL:https://youtu.be/LkJfEGp93y0
CATEGORIES:Breakthrough T1D Channel,Featured
ATTACH;FMTTYPE=image/jpeg:https://play.breakthrought1d.org/wp-content/uploads/2024/02/bearded-legend-haunted-house.jpg
END:VEVENT
BEGIN:VEVENT
DTSTART;TZID=America/Los_Angeles:20240217T150000
DTEND;TZID=America/Los_Angeles:20240217T170000
DTSTAMP:20260425T140535
CREATED:20240215T180036Z
LAST-MODIFIED:20250910T234906Z
UID:10000325-1708182000-1708189200@play.breakthrought1d.org
SUMMARY:Station to Station
DESCRIPTION:
URL:https://youtu.be/J_F1H9P6sDM
CATEGORIES:Breakthrough T1D Channel,Featured
ATTACH;FMTTYPE=image/jpeg:https://play.breakthrought1d.org/wp-content/uploads/2024/02/brave-station-to-station.jpg
END:VEVENT
BEGIN:VEVENT
DTSTART;TZID=America/Los_Angeles:20240213T120000
DTEND;TZID=America/Los_Angeles:20240213T130000
DTSTAMP:20260425T140535
CREATED:20240208T003623Z
LAST-MODIFIED:20250911T180517Z
UID:10000311-1707825600-1707829200@play.breakthrought1d.org
SUMMARY:T1D Tuesday: Carlie Hurtt
DESCRIPTION:
URL:https://youtu.be/sBU8eSnLAug
CATEGORIES:Breakthrough T1D Channel,Featured
ATTACH;FMTTYPE=image/jpeg:https://play.breakthrought1d.org/wp-content/uploads/2024/02/t1d_tuesday_021324.jpg
END:VEVENT
BEGIN:VEVENT
DTSTART;TZID=America/Los_Angeles:20240212T113000
DTEND;TZID=America/Los_Angeles:20240212T143000
DTSTAMP:20260425T140535
CREATED:20240208T002157Z
LAST-MODIFIED:20250910T235148Z
UID:10000310-1707737400-1707748200@play.breakthrought1d.org
SUMMARY:Mega Man Legacy Collection
DESCRIPTION:
URL:https://youtu.be/dLQHvbwMO0M
CATEGORIES:Breakthrough T1D Channel,Featured
ATTACH;FMTTYPE=image/jpeg:https://play.breakthrought1d.org/wp-content/uploads/2024/02/audentior_megaman_021324.jpg
END:VEVENT
BEGIN:VEVENT
DTSTART;TZID=America/Los_Angeles:20240210T163000
DTEND;TZID=America/Los_Angeles:20240210T183000
DTSTAMP:20260425T140535
CREATED:20240208T054509Z
LAST-MODIFIED:20250910T235228Z
UID:10000312-1707582600-1707589800@play.breakthrought1d.org
SUMMARY:Mega Man 11
DESCRIPTION:
URL:https://youtu.be/8zZ3kBjnS2Q
CATEGORIES:Breakthrough T1D Channel,Featured
ATTACH;FMTTYPE=image/jpeg:https://play.breakthrought1d.org/wp-content/uploads/2024/02/megaman11-devon-thumb.jpg
END:VEVENT
BEGIN:VEVENT
DTSTART;TZID=America/Los_Angeles:20240201T100000
DTEND;TZID=America/Los_Angeles:20240201T120000
DTSTAMP:20260425T140535
CREATED:20240125T195503Z
LAST-MODIFIED:20250911T000932Z
UID:10000308-1706781600-1706788800@play.breakthrought1d.org
SUMMARY:Dev Diaries: Hans ten Cate
DESCRIPTION:
URL:https://youtu.be/WwvFG4Y4eFA
CATEGORIES:Breakthrough T1D Channel,Featured
ATTACH;FMTTYPE=image/jpeg:https://play.breakthrought1d.org/wp-content/uploads/2024/01/hans-dev-diaries-020124.jpg
END:VEVENT
BEGIN:VEVENT
DTSTART;TZID=America/Los_Angeles:20240126T170000
DTEND;TZID=America/Los_Angeles:20240126T180000
DTSTAMP:20260425T140535
CREATED:20240111T181659Z
LAST-MODIFIED:20250910T235303Z
UID:10000305-1706288400-1706292000@play.breakthrought1d.org
SUMMARY:Charity Walk Simulator First Look
DESCRIPTION:
URL:https://youtu.be/L9KwrzwJSPo
CATEGORIES:Breakthrough T1D Channel,Featured
ATTACH;FMTTYPE=image/jpeg:https://play.breakthrought1d.org/wp-content/uploads/2024/01/charity-walk-simulator-thumb.jpg
END:VEVENT
BEGIN:VEVENT
DTSTART;TZID=America/Los_Angeles:20231121T120000
DTEND;TZID=America/Los_Angeles:20231121T130000
DTSTAMP:20260425T140535
CREATED:20231018T192817Z
LAST-MODIFIED:20250911T180617Z
UID:10000297-1700568000-1700571600@play.breakthrought1d.org
SUMMARY:T1D Tuesday: NDAM Edition
DESCRIPTION:
URL:https://youtu.be/dRb0Rhxc0BE
CATEGORIES:Breakthrough T1D Channel,Featured,NDAM
ATTACH;FMTTYPE=image/jpeg:https://play.breakthrought1d.org/wp-content/uploads/2023/10/t1d-tuesday-112123.jpg
END:VEVENT
BEGIN:VEVENT
DTSTART;VALUE=DATE:20231107
DTEND;VALUE=DATE:20231108
DTSTAMP:20260425T140535
CREATED:20231018T192736Z
LAST-MODIFIED:20250911T180703Z
UID:10000296-1699315200-1699401599@play.breakthrought1d.org
SUMMARY:T1D Tuesday: NDAM Edition
DESCRIPTION:
URL:https://youtu.be/35kaghfl_3w
CATEGORIES:Breakthrough T1D Channel,Featured,NDAM
ATTACH;FMTTYPE=image/jpeg:https://play.breakthrought1d.org/wp-content/uploads/2023/10/t1d-tuesday-110723.jpg
END:VEVENT
END:VCALENDAR